BEGIN:VCALENDAR
VERSION:2.0
PRODID:-//eventon.com NONSGML v1.0//EN
CALSCALE:GREGORIAN
METHOD:PUBLISH
BEGIN:VEVENT
UID:69e8c40f62f00
DTSTAMP:20260422T125023Z
DTSTART:20260422T220000Z
DTEND:20260422T230000Z
LOCATION:Elyria City Hall 131 Court Street
SUMMARY:CANCELLED - Utilities\,  Safety\,  and Environment Committee Meeting
DESCRIPTION:The Utilities\,  Safety\,  and Environment Committee meeting fo
 r April 22nd has been canceled. City Council Utilities\,  Safety\,  and Env
 ironment Committee meetings are held at 6:00 pm in Council Chambers\,  Elyr
 ia City Hall\,  131 Court Street. The Utilities\,  Safety &amp; Environment
  Committee considers matters relating to public parks and recreation facili
 ties\, [..]\nhttps://www.cityofelyria.org/events/utilities-safety-and-envir
 onment-committee-meeting-april-22/
URL:https://www.cityofelyria.org/events/utilities-safety-and-environment-committee-meeting-april-22/
END:VEVENT
END:VCALENDAR