BEGIN:VCALENDAR
VERSION:2.0
PRODID:-//eventon.com NONSGML v1.0//EN
CALSCALE:GREGORIAN
METHOD:PUBLISH
BEGIN:VEVENT
UID:69e5e20a72de9
DTSTAMP:20260420T082130Z
DTSTART:20250703T153000Z
DTEND:20250703T170000Z
LOCATION:Ely Square Park 400 Broad Street
SUMMARY:Trista Tribute Band - LIVE in Ely Square
DESCRIPTION:Elyria&#8217;s 2025 Summer Concert Series continues with the Tr
 ista Tribute Band\,  LIVE in Ely Square on Thursday\,  July 3rd from 11:30 
 am &#8211; 1:00 pm. Food trucks on site!\nhttps://www.cityofelyria.org/even
 ts/summer-concert-series-07-03-25/
URL:https://www.cityofelyria.org/events/summer-concert-series-07-03-25/
END:VEVENT
END:VCALENDAR