BEGIN:VCALENDAR
VERSION:2.0
PRODID:-//eventon.com NONSGML v1.0//EN
CALSCALE:GREGORIAN
METHOD:PUBLISH
BEGIN:VEVENT
UID:69e630c6cecd9
DTSTAMP:20260420T135726Z
DTSTART:20250626T153000Z
DTEND:20250626T170000Z
LOCATION:Ely Square Park 400 Broad Street
SUMMARY:The Warriors - LIVE in Ely Square
DESCRIPTION:Elyria&#8217;s 2025 Summer Concert Series continues with The Wa
 rriors\,  LIVE in Ely Square on Thursday\,  June 26 from 11:30 am &#8211; 1
 :00 pm. Food trucks on site!\nhttps://www.cityofelyria.org/events/summer-co
 ncert-series-06-26-25/
URL:https://www.cityofelyria.org/events/summer-concert-series-06-26-25/
END:VEVENT
END:VCALENDAR